BEGIN:VCALENDAR
VERSION:2.0
PRODID:-//wp-events-plugin.com//5.38//EN

BEGIN:VEVENT
DTSTART:20170811T010000Z
DTEND:20170811T040000Z
DTSTAMP:20170809T025816Z
SUMMARY:Using evidence to improve health care in a hospital setting(以實證精進醫療機構健康照護研習會) - 台北醫學大學綜合醫學大樓後棟16樓演講廳 - 2017/08/11(星期五) - 上午 9:00 - 下午 12:00
LOCATION:台北醫學大學綜合醫學大樓後棟16樓演講廳
URL:http://imohw.tmu.edu.tw/events/using-evidence-to-improve-health-care-in-a-hospital-setting%e4%bb%a5%e5%af%a6%e8%ad%89%e7%b2%be%e9%80%b2%e9%86%ab%e7%99%82%e6%a9%9f%e6%a7%8b%e5%81%a5%e5%ba%b7%e7%85%a7%e8%ad%b7%e7%a0%94%e7%bf%92/
END:VEVENT
END:VCALENDAR