BEGIN:VCALENDAR
VERSION:2.0
PRODID:-//wp-events-plugin.com//5.38//EN

BEGIN:VEVENT
DTSTART:20201022T010000Z
DTEND:20201022T040000Z
DTSTAMP:20201016T014348Z
SUMMARY:建置醫療衛生福利生技期刊資源資料庫以推動實證醫學 及知識轉譯計畫 成果發表會 - 臺北醫學大學醫學綜合大樓後棟8樓徐千田廳 - 2020/10/22(星期四) - 上午 9:00 - 下午 12:00
LOCATION:臺北醫學大學醫學綜合大樓後棟8樓徐千田廳
URL:http://imohw.tmu.edu.tw/events/judy-lai/
END:VEVENT
END:VCALENDAR