BEGIN:VCALENDAR
VERSION:2.0
PRODID:-//wp-events-plugin.com//5.38//EN

BEGIN:VEVENT
DTSTART;VALUE=DATE:20200926
DTEND;VALUE=DATE:20200927
DTSTAMP:20200917T064709Z
SUMMARY:「在瘟疫蔓延時:您所缺的實證醫學口罩─醫學文獻評讀工具工作坊 RoB 2.0\, ROBINS-I\, Newcastle-Ottawa Scale」 - 台北醫學大學醫綜大樓前棟 四樓誠樸廳 - 2020/09/26(星期六) - 全天
LOCATION:台北醫學大學醫綜大樓前棟 四樓誠樸廳
URL:http://imohw.tmu.edu.tw/events/6280/
END:VEVENT
END:VCALENDAR