BEGIN:VCALENDAR
VERSION:2.0
PRODID:-//wp-events-plugin.com//5.38//EN

BEGIN:VEVENT
DTSTART:20200718T060000Z
DTEND:20200718T090000Z
DTSTAMP:20200718T012220Z
SUMMARY:實證疼痛臨床照護指引權益關係人會議 - 臺大醫院兒童醫院 - 2020/07/18(星期六) - 下午 2:00 - 下午 5:00
LOCATION:臺大醫院兒童醫院
URL:http://imohw.tmu.edu.tw/events/6232/
END:VEVENT
END:VCALENDAR