BEGIN:VCALENDAR
VERSION:2.0
PRODID:-//wp-events-plugin.com//5.38//EN

BEGIN:VEVENT
DTSTART:20260505T040000Z
DTEND:20260505T050000Z
DTSTAMP:20260415T064530Z
SUMMARY:20260505實證醫學研習線上直播 -  - 2026/05/05(星期二) - 下午 12:00 - 下午 1:00
LOCATION:
URL:http://imohw.tmu.edu.tw/events/20260505%e5%af%a6%e8%ad%89%e9%86%ab%e5%ad%b8%e7%b7%9a%e4%b8%8a%e7%9b%b4%e6%92%ad/
END:VEVENT
END:VCALENDAR