BEGIN:VCALENDAR
VERSION:2.0
PRODID:-//wp-events-plugin.com//5.38//EN

BEGIN:VEVENT
DTSTART;VALUE=DATE:20240323
DTEND;VALUE=DATE:20240325
DTSTAMP:20240318T005722Z
SUMMARY:2024系統性文獻回顧及統合分析工作坊 - 臺北醫學大學綜合醫學大樓前棟四樓誠樸廳 - 2024/03/23(星期六) - 2024/03/24(星期日) - 全天
LOCATION:臺北醫學大學綜合醫學大樓前棟四樓誠樸廳
URL:http://imohw.tmu.edu.tw/events/2024%e7%b3%bb%e7%b5%b1%e6%80%a7%e6%96%87%e7%8d%bb%e5%9b%9e%e9%a1%a7%e5%8f%8a%e7%b5%b1%e5%90%88%e5%88%86%e6%9e%90%e5%b7%a5%e4%bd%9c%e5%9d%8a/
END:VEVENT
END:VCALENDAR