BEGIN:VCALENDAR
VERSION:2.0
PRODID:-//wp-events-plugin.com//5.38//EN

BEGIN:VEVENT
DTSTART:20210721T050000Z
DTEND:20210929T060000Z
DTSTAMP:20210723T022920Z
SUMMARY:2021年度考科藍台灣研究中心直播場次 -  - 2021/07/21(星期三) - 2021/09/29(星期三) - 下午 1:00 - 下午 2:00
LOCATION:
URL:http://imohw.tmu.edu.tw/events/2021%e5%b9%b4%e5%ba%a6%e8%80%83%e7%a7%91%e8%97%8d%e5%8f%b0%e7%81%a3%e7%a0%94%e7%a9%b6%e4%b8%ad%e5%bf%83%e7%9b%b4%e6%92%ad%e5%a0%b4%e6%ac%a1/
END:VEVENT
END:VCALENDAR