BEGIN:VCALENDAR
VERSION:2.0
PRODID:-//wp-events-plugin.com//5.38//EN

BEGIN:VEVENT
DTSTART;VALUE=DATE:20190306
DTEND;VALUE=DATE:20190307
DTSTAMP:20190227T103553Z
SUMMARY:2019 醫學文獻評讀工具工作坊 - 台北醫學大學大安校區 - 2019/03/06(星期三) - 全天
LOCATION:台北醫學大學大安校區
URL:http://imohw.tmu.edu.tw/events/2019-%e9%86%ab%e5%ad%b8%e6%96%87%e7%8d%bb%e8%a9%95%e8%ae%80%e5%b7%a5%e5%85%b7%e5%b7%a5%e4%bd%9c%e5%9d%8a/
END:VEVENT
END:VCALENDAR