BEGIN:VCALENDAR
VERSION:2.0
PRODID:-//wp-events-plugin.com//5.38//EN

BEGIN:VEVENT
DTSTART;VALUE=DATE:20181208
DTEND;VALUE=DATE:20181210
DTSTAMP:20181205T075224Z
SUMMARY:2018 Cochrane Systematic Review Training Workshop - 台北醫學大學醫綜大樓前棟 四樓誠樸廳 - 2018/12/08(星期六) - 2018/12/09(星期日) - 全天
LOCATION:台北醫學大學醫綜大樓前棟 四樓誠樸廳
URL:http://imohw.tmu.edu.tw/events/2018-cochrane-systematic-review-training-workshop/
END:VEVENT
END:VCALENDAR