BEGIN:VCALENDAR
VERSION:2.0
PRODID:-//wp-events-plugin.com//5.38//EN

BEGIN:VEVENT
DTSTART:20180418T000000Z
DTEND:20180418T040000Z
DTSTAMP:20180327T030505Z
SUMMARY:2018 醫學文獻評讀工具工作坊 Critical Appraisal Tools Workshop - 臺北醫學大學醫學 大安校區 B201會議室 - 2018/04/18(星期三) - 上午 8:00 - 下午 12:00
LOCATION:臺北醫學大學醫學 大安校區 B201會議室
URL:http://imohw.tmu.edu.tw/events/2018-%e9%86%ab%e5%ad%b8%e6%96%87%e7%8d%bb%e8%a9%95%e8%ae%80%e5%b7%a5%e5%85%b7%e5%b7%a5%e4%bd%9c%e5%9d%8a-critical-appraisal-tools-workshop/
END:VEVENT
END:VCALENDAR