BEGIN:VCALENDAR
VERSION:2.0
PRODID:-//wp-events-plugin.com//5.38//EN

BEGIN:VEVENT
DTSTART;VALUE=DATE:20180721
DTEND;VALUE=DATE:20180723
DTSTAMP:20180622T015128Z
SUMMARY:2018 「GRADE與臨床照護指引」工作坊 GRADE and Clinical Practice Guidelines Workshop - 集思交通部國際會議中心3樓 國際會議廳 - 2018/07/21(星期六) - 2018/07/22(星期日) - 全天
LOCATION:集思交通部國際會議中心3樓 國際會議廳
URL:http://imohw.tmu.edu.tw/events/2018-%e3%80%8cgrade%e8%88%87%e8%87%a8%e5%ba%8a%e7%85%a7%e8%ad%b7%e6%8c%87%e5%bc%95%e3%80%8d%e5%b7%a5%e4%bd%9c%e5%9d%8a-grade-and-clinical-practice-guidelines-workshop/
END:VEVENT
END:VCALENDAR