BEGIN:VCALENDAR
VERSION:2.0
PRODID:-//wp-events-plugin.com//5.38//EN

BEGIN:VEVENT
DTSTART;VALUE=DATE:20171209
DTEND;VALUE=DATE:20171211
DTSTAMP:20171204T082956Z
SUMMARY:2017 Cochrane Systematic Review Training Workshop - 台北醫學大學大安校區 - 2017/12/09(星期六) - 2017/12/10(星期日) - 全天
LOCATION:台北醫學大學大安校區
URL:http://imohw.tmu.edu.tw/events/2017-cochrane-systematic-review-training-workshop/
END:VEVENT
END:VCALENDAR