BEGIN:VCALENDAR
VERSION:2.0
PRODID:-//wp-events-plugin.com//5.38//EN

BEGIN:VEVENT
DTSTART:20160423T050000Z
DTEND:20160424T150000Z
DTSTAMP:20160301T021220Z
SUMMARY:2016 實證醫學－系統性文獻回顧研究菁英班研習工作坊 - 礁溪長榮鳳凰飯店 - 2016/04/23(星期六) - 2016/04/24(星期日) - 下午 1:00 - 下午 11:00
LOCATION:礁溪長榮鳳凰飯店
URL:http://imohw.tmu.edu.tw/events/2016-%e5%af%a6%e8%ad%89%e9%86%ab%e5%ad%b8-%e7%b3%bb%e7%b5%b1%e6%80%a7%e6%96%87%e7%8d%bb%e5%9b%9e%e9%a1%a7%e7%a0%94%e7%a9%b6%e8%8f%81%e8%8b%b1%e7%8f%ad%e7%a0%94%e7%bf%92%e5%b7%a5%e4%bd%9c%e5%9d%8a/
END:VEVENT
END:VCALENDAR