BEGIN:VCALENDAR
VERSION:2.0
PRODID:-//wp-events-plugin.com//5.38//EN

BEGIN:VEVENT
DTSTART:20160123T010000Z
DTEND:20160123T040000Z
DTSTAMP:20160122T015144Z
SUMMARY:2016國際實證健康照護經驗分享研討會 - 國際實證照護新趨勢及新知‧成功投稿國際會議策略分享 - 臺北市立萬芳醫院 5樓階梯教室 - 2016/01/23(星期六) - 上午 9:00 - 下午 12:00
LOCATION:臺北市立萬芳醫院 5樓階梯教室
URL:http://imohw.tmu.edu.tw/events/2016%e5%9c%8b%e9%9a%9b%e5%af%a6%e8%ad%89%e5%81%a5%e5%ba%b7%e7%85%a7%e8%ad%b7%e7%b6%93%e9%a9%97%e5%88%86%e4%ba%ab%e7%a0%94%e8%a8%8e%e6%9c%83/
END:VEVENT
END:VCALENDAR