BEGIN:VCALENDAR
VERSION:2.0
PRODID:-//wp-events-plugin.com//5.38//EN

BEGIN:VEVENT
DTSTART:20160326T010000Z
DTEND:20160326T090000Z
DTSTAMP:20160316T024450Z
SUMMARY:2016全國推廣實證醫學基礎班工作坊(豐原醫院) - 衛生福利部豐原醫院 - 2016/03/26(星期六) - 上午 9:00 - 下午 5:00
LOCATION:衛生福利部豐原醫院
URL:http://imohw.tmu.edu.tw/events/2016%e5%85%a8%e5%9c%8b%e6%8e%a8%e5%bb%a3%e5%af%a6%e8%ad%89%e9%86%ab%e5%ad%b8%e5%b7%a5%e4%bd%9c%e5%9d%8a%e8%b1%90%e5%8e%9f%e9%86%ab%e9%99%a2/
END:VEVENT
END:VCALENDAR