BEGIN:VCALENDAR
VERSION:2.0
PRODID:-//wp-events-plugin.com//5.38//EN

BEGIN:VEVENT
DTSTART:20151205T010000Z
DTEND:20151206T040000Z
DTSTAMP:20151126T014406Z
SUMMARY:2015實證醫學種子師資培訓工作坊(光田醫院場) - 光田醫療社團法人光田綜合醫院 - 2015/12/05(星期六) - 2015/12/06(星期日) - 上午 9:00 - 下午 12:00
LOCATION:光田醫療社團法人光田綜合醫院
URL:http://imohw.tmu.edu.tw/events/2015%e5%af%a6%e8%ad%89%e9%86%ab%e5%ad%b8%e7%a8%ae%e5%ad%90%e5%b8%ab%e8%b3%87%e5%9f%b9%e8%a8%93%e5%b7%a5%e4%bd%9c%e5%9d%8a%e5%85%89%e7%94%b0%e9%86%ab%e9%99%a2%e5%a0%b4/
END:VEVENT
END:VCALENDAR