BEGIN:VCALENDAR
VERSION:2.0
PRODID:-//wp-events-plugin.com//5.38//EN

BEGIN:VEVENT
DTSTART:20170430T000000Z
DTEND:20170430T040000Z
DTSTAMP:20170425T025830Z
SUMMARY:非隨機對照試驗之系統性文獻回顧 研習會 non-RCT Systematic Review Forum - 臺北醫學大學醫學醫學綜合大樓前棟4樓誠樸廳 - 2017/04/30(星期日) - 上午 8:00 - 下午 12:00
LOCATION:臺北醫學大學醫學醫學綜合大樓前棟4樓誠樸廳
URL:http://imohw.tmu.edu.tw/events/%e9%9d%9e%e9%9a%a8%e6%a9%9f%e5%b0%8d%e7%85%a7%e8%a9%a6%e9%a9%97%e4%b9%8b%e7%b3%bb%e7%b5%b1%e6%80%a7%e6%96%87%e7%8d%bb%e5%9b%9e%e9%a1%a7-%e7%a0%94%e7%bf%92%e6%9c%83-non-rct-systematic-review-forum/
END:VEVENT
END:VCALENDAR