BEGIN:VCALENDAR
VERSION:2.0
PRODID:-//wp-events-plugin.com//5.38//EN

BEGIN:VEVENT
DTSTART:20210123T050000Z
DTEND:20210123T090000Z
DTSTAMP:20210122T004352Z
SUMMARY:開放軟體繪製森林圖研習會 –  開放天空下璀璨的森林圖 - 台北醫學大學醫綜大樓前棟 四樓誠樸廳 - 2021/01/23(星期六) - 下午 1:00 - 下午 5:00
LOCATION:台北醫學大學醫綜大樓前棟 四樓誠樸廳
URL:http://imohw.tmu.edu.tw/events/%e9%96%8b%e6%94%be%e8%bb%9f%e9%ab%94%e7%b9%aa%e8%a3%bd%e6%a3%ae%e6%9e%97%e5%9c%96%e7%a0%94%e7%bf%92%e6%9c%83-%e9%96%8b%e6%94%be%e5%a4%a9%e7%a9%ba%e4%b8%8b%e7%92%80%e7%92%a8%e7%9a%84/
END:VEVENT
END:VCALENDAR