BEGIN:VCALENDAR
VERSION:2.0
PRODID:-//wp-events-plugin.com//5.38//EN

BEGIN:VEVENT
DTSTART:20170311T010000Z
DTEND:20170312T083000Z
DTSTAMP:20170223T053643Z
SUMMARY:醫療新時代的必修課 ─系統性文獻回顧與統合分析工作坊 - 福容大飯店 台北一館 B1芙蓉廰 - 2017/03/11(星期六) - 2017/03/12(星期日) - 上午 9:00 - 下午 4:30
LOCATION:福容大飯店 台北一館 B1芙蓉廰
URL:http://imohw.tmu.edu.tw/events/%e9%86%ab%e7%99%82%e6%96%b0%e6%99%82%e4%bb%a3%e7%9a%84%e5%bf%85%e4%bf%ae%e8%aa%b2-%e2%94%80%e7%b3%bb%e7%b5%b1%e6%80%a7%e6%96%87%e7%8d%bb%e5%9b%9e%e9%a1%a7%e8%88%87%e7%b5%b1%e5%90%88%e5%88%86%e6%9e%90/
END:VEVENT
END:VCALENDAR