BEGIN:VCALENDAR
VERSION:2.0
PRODID:-//wp-events-plugin.com//5.38//EN

BEGIN:VEVENT
DTSTART:20160530T050000Z
DTEND:20160530T090000Z
DTSTAMP:20160527T033941Z
SUMMARY:2016/05/30 醫病共享決策與知識轉譯研討會 - 衛生福利部雙和醫院-行政大樓一樓階梯教室 - 2016/05/30(星期一) - 下午 1:00 - 下午 5:00
LOCATION:衛生福利部雙和醫院-行政大樓一樓階梯教室
URL:http://imohw.tmu.edu.tw/events/%e9%86%ab%e7%97%85%e5%85%b1%e5%90%8c%e6%b1%ba%e5%ae%9a%e8%88%87%e7%9f%a5%e8%ad%98%e8%bd%89%e8%ad%af%e7%a0%94%e8%a8%8e%e6%9c%83/
END:VEVENT
END:VCALENDAR