BEGIN:VCALENDAR
VERSION:2.0
PRODID:-//wp-events-plugin.com//5.38//EN

BEGIN:VEVENT
DTSTART:20180103T053000Z
DTEND:20180103T090000Z
DTSTAMP:20171227T040619Z
SUMMARY:醫療4.0—臨床實證醫學革命 - 台北醫學大學綜合醫學大樓後棟16樓演講廳 - 2018/01/03(星期三) - 下午 1:30 - 下午 5:00
LOCATION:台北醫學大學綜合醫學大樓後棟16樓演講廳
URL:http://imohw.tmu.edu.tw/events/%e9%86%ab%e5%ad%b84-0-%e8%87%a8%e5%ba%8a%e5%af%a6%e8%ad%89%e9%86%ab%e5%ad%b8%e9%9d%a9%e5%91%bd/
END:VEVENT
END:VCALENDAR