BEGIN:VCALENDAR
VERSION:2.0
PRODID:-//wp-events-plugin.com//5.38//EN

BEGIN:VEVENT
DTSTART:20210703T010000Z
DTEND:20210704T043000Z
DTSTAMP:20210527T030024Z
SUMMARY:『活動取消』醫學期刊寫作工作坊 盛夏炎陽下妙筆生花：掌握英文寫作與發表醫學論文的技能 - 台北醫學大學醫綜大樓前棟 四樓誠樸廳 - 2021/07/03(星期六) - 2021/07/04(星期日) - 上午 9:00 - 下午 12:30
LOCATION:台北醫學大學醫綜大樓前棟 四樓誠樸廳
URL:http://imohw.tmu.edu.tw/events/%e9%86%ab%e5%ad%b8%e6%9c%9f%e5%88%8a%e5%af%ab%e4%bd%9c%e5%b7%a5%e4%bd%9c%e5%9d%8a-%e7%9b%9b%e5%a4%8f%e7%82%8e%e9%99%bd%e4%b8%8b%e5%a6%99%e7%ad%86%e7%94%9f%e8%8a%b1%ef%bc%9a%e6%8e%8c%e6%8f%a1%e8%8b%b1/
END:VEVENT
END:VCALENDAR