BEGIN:VCALENDAR
VERSION:2.0
PRODID:-//wp-events-plugin.com//5.38//EN

BEGIN:VEVENT
DTSTART:20200323T010000Z
DTEND:20200323T090000Z
DTSTAMP:20200320T050738Z
SUMMARY:[活動取消]在瘟疫蔓延時:您所缺的實證醫學口罩 -- 醫學文獻評讀工具工作坊-RoB 2.0\, ROBINS-I\, Newcastle-Ottawa Scale - 臺北醫學大學 綜合醫學大樓前棟四樓 誠樸廳 - 2020/03/23(星期一) - 上午 9:00 - 下午 5:00
LOCATION:臺北醫學大學 綜合醫學大樓前棟四樓 誠樸廳
URL:http://imohw.tmu.edu.tw/events/%e9%86%ab%e5%ad%b8%e6%96%87%e7%8d%bb%e8%a9%95%e8%ae%80%e5%b7%a5%e5%85%b7%e5%b7%a5%e4%bd%9c%e5%9d%8a-rob-2-0-robins-i/
END:VEVENT
END:VCALENDAR