BEGIN:VCALENDAR
VERSION:2.0
PRODID:-//wp-events-plugin.com//5.38//EN

BEGIN:VEVENT
DTSTART:20190626T040000Z
DTEND:20190626T051500Z
DTSTAMP:20190618T030027Z
SUMMARY:醫學人工智慧  「從如果/然後到擬人學習」 - 臺北醫學大學前棟三樓第一會議室 - 2019/06/26(星期三) - 下午 12:00 - 下午 1:15
LOCATION:臺北醫學大學前棟三樓第一會議室
URL:http://imohw.tmu.edu.tw/events/%e9%86%ab%e5%ad%b8%e4%ba%ba%e5%b7%a5%e6%99%ba%e6%85%a7-%e3%80%8c%e5%be%9e%e5%a6%82%e6%9e%9c%e7%84%b6%e5%be%8c%e5%88%b0%e6%93%ac%e4%ba%ba%e5%ad%b8%e7%bf%92%e3%80%8d/
END:VEVENT
END:VCALENDAR