BEGIN:VCALENDAR
VERSION:2.0
PRODID:-//wp-events-plugin.com//5.38//EN

BEGIN:VEVENT
DTSTART:20191009T060000Z
DTEND:20191009T090000Z
DTSTAMP:20190829T022854Z
SUMMARY:實證總動員：科技知識及共享資源成果發表會 - 臺北醫學大學醫學綜合大樓後棟8樓徐千田廳 - 2019/10/09(星期三) - 下午 2:00 - 下午 5:00
LOCATION:臺北醫學大學醫學綜合大樓後棟8樓徐千田廳
URL:http://imohw.tmu.edu.tw/events/%e8%a1%9b%e7%94%9f%e7%a6%8f%e5%88%a9%e9%83%a8%e3%80%8c108%e5%b9%b4%e6%8e%a8%e5%8b%95%e5%85%a8%e5%9c%8b%e5%af%a6%e8%ad%89%e9%86%ab%e5%ad%b8%e6%99%ae%e5%8f%8a%e7%a7%91%e6%8a%80%e7%9f%a5%e8%ad%98/
END:VEVENT
END:VCALENDAR