BEGIN:VCALENDAR
VERSION:2.0
PRODID:-//wp-events-plugin.com//5.38//EN

BEGIN:VEVENT
DTSTART:20210805T020000Z
DTEND:20210805T030000Z
DTSTAMP:20210806T021959Z
SUMMARY:考科藍圖書館 (Cochrane Library) 資料庫 全國聯合採購計畫線上說明會 -  - 2021/08/05(星期四) - 上午 10:00 - 上午 11:00
LOCATION:
URL:http://imohw.tmu.edu.tw/events/%e8%80%83%e7%a7%91%e8%97%8d%e5%9c%96%e6%9b%b8%e9%a4%a8-cochrane-library-%e8%b3%87%e6%96%99%e5%ba%ab-%e5%85%a8%e5%9c%8b%e8%81%af%e5%90%88%e6%8e%a1%e8%b3%bc%e8%a8%88%e7%95%ab%e7%b7%9a%e4%b8%8a/
END:VEVENT
END:VCALENDAR