BEGIN:VCALENDAR
VERSION:2.0
PRODID:-//wp-events-plugin.com//5.38//EN

BEGIN:VEVENT
DTSTART;VALUE=DATE:20200704
DTEND;VALUE=DATE:20200706
DTSTAMP:20200701T010857Z
SUMMARY:宅在家不如寫論文–系統性文獻回顧及統合分析工作坊 - 張榮發基金會 - 2020/07/04(星期六) - 2020/07/05(星期日) - 全天
LOCATION:張榮發基金會
URL:http://imohw.tmu.edu.tw/events/%e7%b3%bb%e7%b5%b1%e6%80%a7%e6%96%87%e7%8d%bb%e5%9b%9e%e9%a1%a7%e8%88%87%e7%b5%b1%e5%90%88%e5%88%86%e6%9e%90%e5%b7%a5%e4%bd%9c%e5%9d%8a/
END:VEVENT
END:VCALENDAR