BEGIN:VCALENDAR
VERSION:2.0
PRODID:-//wp-events-plugin.com//5.38//EN

BEGIN:VEVENT
DTSTART:20161127T050000Z
DTEND:20161127T090000Z
DTSTAMP:20161125T020922Z
SUMMARY:研製慢性阻塞性肺病臨床治療指引計畫 權益關係人說明會 - 台北醫學大學綜合醫學大樓後棟16樓演講廳 - 2016/11/27(星期日) - 下午 1:00 - 下午 5:00
LOCATION:台北醫學大學綜合醫學大樓後棟16樓演講廳
URL:http://imohw.tmu.edu.tw/events/%e7%a0%94%e8%a3%bd%e6%85%a2%e6%80%a7%e9%98%bb%e5%a1%9e%e6%80%a7%e8%82%ba%e7%97%85%e8%87%a8%e5%ba%8a%e6%b2%bb%e7%99%82%e6%8c%87%e5%bc%95%e8%a8%88%e7%95%ab-%e6%ac%8a%e7%9b%8a%e9%97%9c%e4%bf%82%e4%ba%ba/
END:VEVENT
END:VCALENDAR