BEGIN:VCALENDAR
VERSION:2.0
PRODID:-//wp-events-plugin.com//5.38//EN

BEGIN:VEVENT
DTSTART:20200815T010000Z
DTEND:20200816T040000Z
DTSTAMP:20200814T120855Z
SUMMARY:盛夏作業-讓自己成為期刊論文寫作高手 - 集思北科大會議中心2樓貝塔廳 - 2020/08/15(星期六) - 2020/08/16(星期日) - 上午 9:00 - 下午 12:00
LOCATION:集思北科大會議中心2樓貝塔廳
URL:http://imohw.tmu.edu.tw/events/%e7%9b%9b%e5%a4%8f%e4%bd%9c%e6%a5%ad-%e8%ae%93%e8%87%aa%e5%b7%b1%e6%88%90%e7%82%ba%e6%9c%9f%e5%88%8a%e5%af%ab%e4%bd%9c%e9%ab%98%e6%89%8b/
END:VEVENT
END:VCALENDAR