BEGIN:VCALENDAR
VERSION:2.0
PRODID:-//wp-events-plugin.com//5.38//EN

BEGIN:VEVENT
DTSTART:20200108T050000Z
DTEND:20200108T083000Z
DTSTAMP:20200106T031117Z
SUMMARY:明智選擇 (Choosing Wisely) 推廣研討會 - 衛生福利部雙和醫院 - 2020/01/08(星期三) - 下午 1:00 - 下午 4:30
LOCATION:衛生福利部雙和醫院
URL:http://imohw.tmu.edu.tw/events/%e6%98%8e%e6%99%ba%e9%81%b8%e6%93%87-choosing-wisely-%e6%8e%a8%e5%bb%a3%e7%a0%94%e8%a8%8e%e6%9c%83/
END:VEVENT
END:VCALENDAR