BEGIN:VCALENDAR
VERSION:2.0
PRODID:-//wp-events-plugin.com//5.38//EN

BEGIN:VEVENT
DTSTART;VALUE=DATE:20210109
DTEND;VALUE=DATE:20210111
DTSTAMP:20201229T010125Z
SUMMARY:後疫情時代的超前佈署 --真實世界證據的系統性文獻回顧及統合分析工作坊 - 台北醫學大學醫綜大樓前棟 四樓誠樸廳 - 2021/01/09(星期六) - 2021/01/10(星期日) - 全天
LOCATION:台北醫學大學醫綜大樓前棟 四樓誠樸廳
URL:http://imohw.tmu.edu.tw/events/%e5%be%8c%e7%96%ab%e6%83%85%e6%99%82%e4%bb%a3%e7%9a%84%e8%b6%85%e5%89%8d%e4%bd%88%e7%bd%b2-%e7%9c%9f%e5%af%a6%e4%b8%96%e7%95%8c%e8%ad%89%e6%93%9a%e7%9a%84%e7%b3%bb%e7%b5%b1%e6%80%a7%e6%96%87-2/
END:VEVENT
END:VCALENDAR