BEGIN:VCALENDAR
VERSION:2.0
PRODID:-//wp-events-plugin.com//5.38//EN

BEGIN:VEVENT
DTSTART:20160109T051000Z
DTEND:20160109T091000Z
DTSTAMP:20160105T124343Z
SUMMARY:實證醫學與大數據研討會—廿一世紀醫療人員進修與臨床應用的新思維 - 臺北醫學大學綜合醫學大樓前棟四樓誠樸廳 - 2016/01/09(星期六) - 下午 1:10 - 下午 5:10
LOCATION:臺北醫學大學綜合醫學大樓前棟四樓誠樸廳
URL:http://imohw.tmu.edu.tw/events/%e5%af%a6%e8%ad%89%e9%86%ab%e5%ad%b8%e8%88%87%e5%a4%a7%e6%95%b8%e6%93%9a%e7%a0%94%e8%a8%8e%e6%9c%83/
END:VEVENT
END:VCALENDAR