BEGIN:VCALENDAR
VERSION:2.0
PRODID:-//wp-events-plugin.com//5.38//EN

BEGIN:VEVENT
DTSTART:20201114T010000Z
DTEND:20201114T090000Z
DTSTAMP:20201110T041443Z
SUMMARY:實證知識轉譯研習會 - 台北醫學大學綜合醫學大樓後棟16樓演講廳 - 2020/11/14(星期六) - 上午 9:00 - 下午 5:00
LOCATION:台北醫學大學綜合醫學大樓後棟16樓演講廳
URL:http://imohw.tmu.edu.tw/events/%e5%af%a6%e8%ad%89%e7%9f%a5%e8%ad%98%e8%bd%89%e8%ad%af%e7%a0%94%e7%bf%92%e6%9c%83/
END:VEVENT
END:VCALENDAR