BEGIN:VCALENDAR
VERSION:2.0
PRODID:-//wp-events-plugin.com//5.38//EN

BEGIN:VEVENT
DTSTART:20200226T043000Z
DTEND:20200226T090000Z
DTSTAMP:20200220T090951Z
SUMMARY:大師的起手式：醫學期刊寫作工作坊 -  - 2020/02/26(星期三) - 下午 12:30 - 下午 5:00
LOCATION:
URL:http://imohw.tmu.edu.tw/events/%e5%a4%a7%e5%b8%ab%e7%9a%84%e8%b5%b7%e6%89%8b%e5%bc%8f%ef%bc%9a%e9%86%ab%e5%ad%b8%e6%9c%9f%e5%88%8a%e5%af%ab%e4%bd%9c%e5%b7%a5%e4%bd%9c%e5%9d%8a-2/
END:VEVENT
END:VCALENDAR