BEGIN:VCALENDAR
VERSION:2.0
PRODID:-//wp-events-plugin.com//5.38//EN

BEGIN:VEVENT
DTSTART:20190808T040000Z
DTEND:20190808T051500Z
DTSTAMP:20190725T075406Z
SUMMARY:以病人為中心的實證健康照護與共同決策 - 臺北醫學大學前棟三樓第一會議室 - 2019/08/08(星期四) - 下午 12:00 - 下午 1:15
LOCATION:臺北醫學大學前棟三樓第一會議室
URL:http://imohw.tmu.edu.tw/events/%e4%bb%a5%e7%97%85%e4%ba%ba%e7%82%ba%e4%b8%ad%e5%bf%83%e7%9a%84%e5%af%a6%e8%ad%89%e5%81%a5%e5%ba%b7%e7%85%a7%e8%ad%b7%e8%88%87%e5%85%b1%e5%90%8c%e6%b1%ba%e7%ad%96/
END:VEVENT
END:VCALENDAR