BEGIN:VCALENDAR
VERSION:2.0
PRODID:-//wp-events-plugin.com//5.38//EN

BEGIN:VEVENT
DTSTART:20230218T003000Z
DTEND:20230219T093000Z
DTSTAMP:20230104T005602Z
SUMMARY:【額滿通知】【考科藍臺灣研究中心Cochrane Taiwan】 2023系統性文獻回顧及統合分析工作坊 - 臺北醫學大學 綜合醫學大樓前棟四樓 誠樸廳 - 2023/02/18(星期六) - 2023/02/19(星期日) - 上午 8:30 - 下午 5:30
LOCATION:臺北醫學大學 綜合醫學大樓前棟四樓 誠樸廳
URL:http://imohw.tmu.edu.tw/events/%e3%80%90%e8%80%83%e7%a7%91%e8%97%8d%e8%87%ba%e7%81%a3%e7%a0%94%e7%a9%b6%e4%b8%ad%e5%bf%83cochrane-taiwan%e3%80%91-%e7%b3%bb%e7%b5%b1%e6%80%a7%e6%96%87%e7%8d%bb%e5%9b%9e%e9%a1%a7%e5%8f%8a%e7%b5%b1/
END:VEVENT
END:VCALENDAR