BEGIN:VCALENDAR
VERSION:2.0
PRODID:-//wp-events-plugin.com//5.38//EN

BEGIN:VEVENT
DTSTART:20210501T004500Z
DTEND:20210501T090000Z
DTSTAMP:20210422T011721Z
SUMMARY:【考科藍臺灣研究中心】網絡統合分析工作坊 Network Meta-analysis Workshop - 臺北醫學大學 綜合醫學大樓前棟四樓 誠樸廳 - 2021/05/01(星期六) - 上午 8:45 - 下午 5:00
LOCATION:臺北醫學大學 綜合醫學大樓前棟四樓 誠樸廳
URL:http://imohw.tmu.edu.tw/events/%e3%80%90%e8%80%83%e7%a7%91%e8%97%8d%e8%87%ba%e7%81%a3%e7%a0%94%e7%a9%b6%e4%b8%ad%e5%bf%83%e3%80%91%e7%b6%b2%e7%b5%a1%e7%b5%b1%e5%90%88%e5%88%86%e6%9e%90%e5%b7%a5%e4%bd%9c%e5%9d%8a-network-meta-analys/
END:VEVENT
END:VCALENDAR