BEGIN:VCALENDAR
VERSION:2.0
PRODID:-//wp-events-plugin.com//5.38//EN

BEGIN:VEVENT
DTSTART:20170218T050000Z
DTEND:20170218T090000Z
DTSTAMP:20170208T082857Z
SUMMARY:「實證預防及診療指引」高峰論壇 - 臺北醫學大學醫學綜合大樓前棟4樓誠樸聽 - 2017/02/18(星期六) - 下午 1:00 - 下午 5:00
LOCATION:臺北醫學大學醫學綜合大樓前棟4樓誠樸聽
URL:http://imohw.tmu.edu.tw/events/%e3%80%8c%e5%af%a6%e8%ad%89%e9%a0%90%e9%98%b2%e5%8f%8a%e8%a8%ba%e7%99%82%e6%8c%87%e5%bc%95%e3%80%8d%e9%ab%98%e5%b3%b0%e8%ab%96%e5%a3%87/
END:VEVENT
END:VCALENDAR